BEGIN:VCALENDAR
VERSION:2.0
PRODID:-//hacksw/handcal//NONSGML v1.0//EN
CALSCALE:GREGORIAN
BEGIN:VEVENT
DTSTART:20131021T080000Z
DTEND:20131021T093000Z
UID:e13863
DTSTAMP:20260420T115044Z
LOCATION:Gerhard M.J. Schmidt Lecture Hall
DESCRIPTION:Faculty of Chemistry Colloquium -  Prof. Ron Naaman
SUMMARY:Faculty of Chemistry Colloquium -  Prof. Ron Naaman
END:VEVENT
END:VCALENDAR