BEGIN:VCALENDAR
VERSION:2.0
PRODID:-//hacksw/handcal//NONSGML v1.0//EN
CALSCALE:GREGORIAN
BEGIN:VEVENT
DTSTART:20131027T080000Z
DTEND:20131027T080000Z
UID:e13865
DTSTAMP:20260420T194331Z
LOCATION:Sussman Family Building for Environmental Sciences
DESCRIPTION:Scale Interactions in the Ocean Circulation: Two Observational Process Studies
SUMMARY:Scale Interactions in the Ocean Circulation: Two Observational Process Studies
END:VEVENT
END:VCALENDAR