BEGIN:VCALENDAR
VERSION:2.0
PRODID:-//hacksw/handcal//NONSGML v1.0//EN
CALSCALE:GREGORIAN
BEGIN:VEVENT
DTSTART:20131020T081500Z
DTEND:20131020T093000Z
UID:e13867
DTSTAMP:20260421T034630Z
LOCATION:Edna and K.B. Weissman Building of Physical Sciences
DESCRIPTION:DARK ENERGY AND THE ACCELERATING UNIVERSE: ONE OBSERVATIONALIST'S CURRENT REPORT CARD
SUMMARY:DARK ENERGY AND THE ACCELERATING UNIVERSE: ONE OBSERVATIONALIST'S CURRENT REPORT CARD
END:VEVENT
END:VCALENDAR