BEGIN:VCALENDAR
VERSION:2.0
PRODID:-//hacksw/handcal//NONSGML v1.0//EN
CALSCALE:GREGORIAN
BEGIN:VEVENT
DTSTART:20131024T080000Z
DTEND:20131024T080000Z
UID:e13868
DTSTAMP:20260420T085620Z
LOCATION:Jacob Ziskind Building
DESCRIPTION:Delocalization of random Lipschitz functions in two dimensions 
SUMMARY:Delocalization of random Lipschitz functions in two dimensions 
END:VEVENT
END:VCALENDAR