BEGIN:VCALENDAR
VERSION:2.0
PRODID:-//hacksw/handcal//NONSGML v1.0//EN
CALSCALE:GREGORIAN
BEGIN:VEVENT
DTSTART:20131219T173000Z
DTEND:20131219T173000Z
UID:e13869
DTSTAMP:20260424T050147Z
LOCATION:Michael Sela Auditorium
DESCRIPTION:A show in tribute to Simon and Garfunkel
SUMMARY:A show in tribute to Simon and Garfunkel
END:VEVENT
END:VCALENDAR