BEGIN:VCALENDAR
VERSION:2.0
PRODID:-//hacksw/handcal//NONSGML v1.0//EN
CALSCALE:GREGORIAN
BEGIN:VEVENT
DTSTART:20131028T131500Z
DTEND:20131028T141500Z
UID:e13875
DTSTAMP:20260420T085624Z
LOCATION:Edna and K.B. Weissman Building of Physical Sciences
DESCRIPTION:The quarkonium saga in heavy ion collisions
SUMMARY:The quarkonium saga in heavy ion collisions
END:VEVENT
END:VCALENDAR