BEGIN:VCALENDAR
VERSION:2.0
PRODID:-//hacksw/handcal//NONSGML v1.0//EN
CALSCALE:GREGORIAN
BEGIN:VEVENT
DTSTART:20131017T080000Z
DTEND:20131017T080000Z
UID:e13877
DTSTAMP:20260421T174024Z
LOCATION:Dolfi and Lola Ebner Auditorium
DESCRIPTION:Giving the brain a voice by converting traditional EEG into maps of brain activity: implication ranging from sleeping birds to humans with ALS
SUMMARY:Giving the brain a voice by converting traditional EEG into maps of brain activity: implication ranging from sleeping birds to humans with ALS
END:VEVENT
END:VCALENDAR