BEGIN:VCALENDAR
VERSION:2.0
PRODID:-//hacksw/handcal//NONSGML v1.0//EN
CALSCALE:GREGORIAN
BEGIN:VEVENT
DTSTART:20131028T111500Z
DTEND:20131028T130000Z
UID:e13879
DTSTAMP:20260420T085558Z
LOCATION:Arthur and Rochelle Belfer Building for Biomedical Research
DESCRIPTION:Nonlinear dynamics in biology
SUMMARY:Nonlinear dynamics in biology
END:VEVENT
END:VCALENDAR