BEGIN:VCALENDAR
VERSION:2.0
PRODID:-//hacksw/handcal//NONSGML v1.0//EN
CALSCALE:GREGORIAN
BEGIN:VEVENT
DTSTART:20131205T093000Z
DTEND:20131205T093000Z
UID:e13884
DTSTAMP:20260421T134001Z
LOCATION:Dolfi and Lola Ebner Auditorium
DESCRIPTION:Soft Drugs and Hard Liqours: The Sixties' version of Bach's Coffee Cantata
SUMMARY:Soft Drugs and Hard Liqours: The Sixties' version of Bach's Coffee Cantata
END:VEVENT
END:VCALENDAR