BEGIN:VCALENDAR
VERSION:2.0
PRODID:-//hacksw/handcal//NONSGML v1.0//EN
CALSCALE:GREGORIAN
BEGIN:VEVENT
DTSTART:20131029T080000Z
DTEND:20131029T080000Z
UID:e13897
DTSTAMP:20260420T224604Z
LOCATION:Helen and Milton A. Kimmelman Building
DESCRIPTION:Activation of C-H Bonds by Pincer-Iridium Complexes. Catalysis and Fundamental Studies
SUMMARY:Activation of C-H Bonds by Pincer-Iridium Complexes. Catalysis and Fundamental Studies
END:VEVENT
END:VCALENDAR