BEGIN:VCALENDAR
VERSION:2.0
PRODID:-//hacksw/handcal//NONSGML v1.0//EN
CALSCALE:GREGORIAN
BEGIN:VEVENT
DTSTART:20131118T080000Z
DTEND:20131118T093000Z
UID:e13905
DTSTAMP:20260423T044532Z
LOCATION:Gerhard M.J. Schmidt Lecture Hall
DESCRIPTION:ICE-BINDING PROTEINS: ROLES\, RECENT EVOLUTION AND MECHANISM OF ACTION
SUMMARY:ICE-BINDING PROTEINS: ROLES\, RECENT EVOLUTION AND MECHANISM OF ACTION
END:VEVENT
END:VCALENDAR