BEGIN:VCALENDAR
VERSION:2.0
PRODID:-//hacksw/handcal//NONSGML v1.0//EN
CALSCALE:GREGORIAN
BEGIN:VEVENT
DTSTART:20131103T101500Z
DTEND:20131103T101500Z
UID:e13911
DTSTAMP:20260421T051354Z
LOCATION:Dannie N. Heineman Laboratory
DESCRIPTION:Noise-enhanced sensitivity of mechanical detection in the auditory system
SUMMARY:Noise-enhanced sensitivity of mechanical detection in the auditory system
END:VEVENT
END:VCALENDAR