BEGIN:VCALENDAR
VERSION:2.0
PRODID:-//hacksw/handcal//NONSGML v1.0//EN
CALSCALE:GREGORIAN
BEGIN:VEVENT
DTSTART:20131113T080000Z
DTEND:20131113T080000Z
UID:e13915
DTSTAMP:20260421T085414Z
LOCATION:Jacob Ziskind Building
DESCRIPTION:Vertex algebras and integrable systems (I) 
SUMMARY:Vertex algebras and integrable systems (I) 
END:VEVENT
END:VCALENDAR