BEGIN:VCALENDAR
VERSION:2.0
PRODID:-//hacksw/handcal//NONSGML v1.0//EN
CALSCALE:GREGORIAN
BEGIN:VEVENT
DTSTART:20131030T080000Z
DTEND:20131030T080000Z
UID:e13919
DTSTAMP:20260421T020243Z
LOCATION:Jacob Ziskind Building
DESCRIPTION:Introduction to Lie superalgebras 
SUMMARY:Introduction to Lie superalgebras 
END:VEVENT
END:VCALENDAR