BEGIN:VCALENDAR
VERSION:2.0
PRODID:-//hacksw/handcal//NONSGML v1.0//EN
CALSCALE:GREGORIAN
BEGIN:VEVENT
DTSTART:20131224T090000Z
DTEND:20131224T100000Z
UID:e13923
DTSTAMP:20260424T050157Z
LOCATION:Dolfi and Lola Ebner Auditorium
DESCRIPTION:Behind the Scenes of the 2013 Physics Nobel Prize: The Higgs Discovery
SUMMARY:Behind the Scenes of the 2013 Physics Nobel Prize: The Higgs Discovery
END:VEVENT
END:VCALENDAR