BEGIN:VCALENDAR
VERSION:2.0
PRODID:-//hacksw/handcal//NONSGML v1.0//EN
CALSCALE:GREGORIAN
BEGIN:VEVENT
DTSTART:20131031T081500Z
DTEND:20131031T093000Z
UID:e13924
DTSTAMP:20260421T235416Z
LOCATION:Edna and K.B. Weissman Building of Physical Sciences
DESCRIPTION:Quantum tricks up the spectroscopist sleeve
SUMMARY:Quantum tricks up the spectroscopist sleeve
END:VEVENT
END:VCALENDAR