BEGIN:VCALENDAR
VERSION:2.0
PRODID:-//hacksw/handcal//NONSGML v1.0//EN
CALSCALE:GREGORIAN
BEGIN:VEVENT
DTSTART:20131029T090000Z
DTEND:20131029T103000Z
UID:e13928
DTSTAMP:20260420T194253Z
LOCATION:
DESCRIPTION:READING BETWEEN THE LINES OF FOUR-DIMENSIONAL GAUGE THEORIES
SUMMARY:READING BETWEEN THE LINES OF FOUR-DIMENSIONAL GAUGE THEORIES
END:VEVENT
END:VCALENDAR