BEGIN:VCALENDAR
VERSION:2.0
PRODID:-//hacksw/handcal//NONSGML v1.0//EN
CALSCALE:GREGORIAN
BEGIN:VEVENT
DTSTART:20131105T110000Z
DTEND:20131105T110000Z
UID:e13934
DTSTAMP:20260420T155024Z
LOCATION:Helen and Milton A. Kimmelman Building
DESCRIPTION:"Preclinical development of scyllo-inositol for treatment of Alzheimer's disease."
SUMMARY:"Preclinical development of scyllo-inositol for treatment of Alzheimer's disease."
END:VEVENT
END:VCALENDAR