BEGIN:VCALENDAR
VERSION:2.0
PRODID:-//hacksw/handcal//NONSGML v1.0//EN
CALSCALE:GREGORIAN
BEGIN:VEVENT
DTSTART:20131110T100000Z
DTEND:20131110T100000Z
UID:e13935
DTSTAMP:20260420T155003Z
LOCATION:Gerhard M.J. Schmidt Lecture Hall
DESCRIPTION:2009 - ??\; Anni mirabiles of Photovoltaic Solar Cell Science and Technology
SUMMARY:2009 - ??\; Anni mirabiles of Photovoltaic Solar Cell Science and Technology
END:VEVENT
END:VCALENDAR