BEGIN:VCALENDAR
VERSION:2.0
PRODID:-//hacksw/handcal//NONSGML v1.0//EN
CALSCALE:GREGORIAN
BEGIN:VEVENT
DTSTART:20131125T111500Z
DTEND:20131125T130000Z
UID:e13939
DTSTAMP:20260421T223121Z
LOCATION:Arthur and Rochelle Belfer Building for Biomedical Research
DESCRIPTION:Adventures in the Biology of Yeast at the System Level
SUMMARY:Adventures in the Biology of Yeast at the System Level
END:VEVENT
END:VCALENDAR