BEGIN:VCALENDAR
VERSION:2.0
PRODID:-//hacksw/handcal//NONSGML v1.0//EN
CALSCALE:GREGORIAN
BEGIN:VEVENT
DTSTART:20131104T111500Z
DTEND:20131104T111500Z
UID:e13945
DTSTAMP:20260421T235422Z
LOCATION:Edna and K.B. Weissman Building of Physical Sciences
DESCRIPTION:Mixed order phase transitions in one dimension
SUMMARY:Mixed order phase transitions in one dimension
END:VEVENT
END:VCALENDAR