BEGIN:VCALENDAR
VERSION:2.0
PRODID:-//hacksw/handcal//NONSGML v1.0//EN
CALSCALE:GREGORIAN
BEGIN:VEVENT
DTSTART:20131104T110000Z
DTEND:20131104T110000Z
UID:e13946
DTSTAMP:20260420T194319Z
LOCATION:Helen and Milton A. Kimmelman Building
DESCRIPTION:"Ab Initio DFT: Some Considerations of Electron Correlation Introduced as a Correlation Potential"
SUMMARY:"Ab Initio DFT: Some Considerations of Electron Correlation Introduced as a Correlation Potential"
END:VEVENT
END:VCALENDAR