BEGIN:VCALENDAR
VERSION:2.0
PRODID:-//hacksw/handcal//NONSGML v1.0//EN
CALSCALE:GREGORIAN
BEGIN:VEVENT
DTSTART:20131127T081500Z
DTEND:20131127T090000Z
UID:e13955
DTSTAMP:20260421T224344Z
LOCATION:Nella and Leon Benoziyo Physics Building
DESCRIPTION:Massive Black Hole Binaries: an observational perspective
SUMMARY:Massive Black Hole Binaries: an observational perspective
END:VEVENT
END:VCALENDAR