BEGIN:VCALENDAR
VERSION:2.0
PRODID:-//hacksw/handcal//NONSGML v1.0//EN
CALSCALE:GREGORIAN
BEGIN:VEVENT
DTSTART:20131111T110000Z
DTEND:20131111T110000Z
UID:e13956
DTSTAMP:20260420T154957Z
LOCATION:Max and Lillian Candiotty Building
DESCRIPTION: Vascular Niches of Adult Stem Cells
SUMMARY: Vascular Niches of Adult Stem Cells
END:VEVENT
END:VCALENDAR