BEGIN:VCALENDAR
VERSION:2.0
PRODID:-//hacksw/handcal//NONSGML v1.0//EN
CALSCALE:GREGORIAN
BEGIN:VEVENT
DTSTART:20131110T110000Z
DTEND:20131110T110000Z
UID:e13957
DTSTAMP:20260420T155019Z
LOCATION:Max and Lillian Candiotty Building
DESCRIPTION:Molecular profiles of glioma-epigenetic context and response to therapy
SUMMARY:Molecular profiles of glioma-epigenetic context and response to therapy
END:VEVENT
END:VCALENDAR