BEGIN:VCALENDAR
VERSION:2.0
PRODID:-//hacksw/handcal//NONSGML v1.0//EN
CALSCALE:GREGORIAN
BEGIN:VEVENT
DTSTART:20131117T080000Z
DTEND:20131117T080000Z
UID:e13958
DTSTAMP:20260420T155236Z
LOCATION:Sussman Family Building for Environmental Sciences
DESCRIPTION:Plate tectonics beyond geomagnetic reversals: the opening of the South Atlantic Ocean 
SUMMARY:Plate tectonics beyond geomagnetic reversals: the opening of the South Atlantic Ocean 
END:VEVENT
END:VCALENDAR