BEGIN:VCALENDAR
VERSION:2.0
PRODID:-//hacksw/handcal//NONSGML v1.0//EN
CALSCALE:GREGORIAN
BEGIN:VEVENT
DTSTART:20140130T170000Z
DTEND:20140130T190000Z
UID:e13959
DTSTAMP:20260425T234712Z
LOCATION:Michael Sela Auditorium
DESCRIPTION:The Magic Trombone
SUMMARY:The Magic Trombone
END:VEVENT
END:VCALENDAR