BEGIN:VCALENDAR
VERSION:2.0
PRODID:-//hacksw/handcal//NONSGML v1.0//EN
CALSCALE:GREGORIAN
BEGIN:VEVENT
DTSTART:20131105T073000Z
DTEND:20131105T083000Z
UID:e13962
DTSTAMP:20260420T085614Z
LOCATION:
DESCRIPTION:SUPERSYMMETRIC RENYI ENTROPY
SUMMARY:SUPERSYMMETRIC RENYI ENTROPY
END:VEVENT
END:VCALENDAR