BEGIN:VCALENDAR
VERSION:2.0
PRODID:-//hacksw/handcal//NONSGML v1.0//EN
CALSCALE:GREGORIAN
BEGIN:VEVENT
DTSTART:20131105T090000Z
DTEND:20131105T100000Z
UID:e13963
DTSTAMP:20260420T115050Z
LOCATION:
DESCRIPTION:DILATONS AND FINE TUNING
SUMMARY:DILATONS AND FINE TUNING
END:VEVENT
END:VCALENDAR