BEGIN:VCALENDAR
VERSION:2.0
PRODID:-//hacksw/handcal//NONSGML v1.0//EN
CALSCALE:GREGORIAN
BEGIN:VEVENT
DTSTART:20131118T111500Z
DTEND:20131118T111500Z
UID:e13965
DTSTAMP:20260421T102840Z
LOCATION:Edna and K.B. Weissman Building of Physical Sciences
DESCRIPTION:Effective rates in dilute advection-reaction systems
SUMMARY:Effective rates in dilute advection-reaction systems
END:VEVENT
END:VCALENDAR