BEGIN:VCALENDAR
VERSION:2.0
PRODID:-//hacksw/handcal//NONSGML v1.0//EN
CALSCALE:GREGORIAN
BEGIN:VEVENT
DTSTART:20131120T081500Z
DTEND:20131120T090000Z
UID:e13967
DTSTAMP:20260421T085331Z
LOCATION:Nella and Leon Benoziyo Physics Building
DESCRIPTION:The dark side of molecular clouds 
SUMMARY:The dark side of molecular clouds 
END:VEVENT
END:VCALENDAR