BEGIN:VCALENDAR
VERSION:2.0
PRODID:-//hacksw/handcal//NONSGML v1.0//EN
CALSCALE:GREGORIAN
BEGIN:VEVENT
DTSTART:20131126T103000Z
DTEND:20131126T113000Z
UID:e13972
DTSTAMP:20260421T180743Z
LOCATION:Wolfson Building for Biological Research
DESCRIPTION:New insights into neutrophil function in cancer
SUMMARY:New insights into neutrophil function in cancer
END:VEVENT
END:VCALENDAR