BEGIN:VCALENDAR
VERSION:2.0
PRODID:-//hacksw/handcal//NONSGML v1.0//EN
CALSCALE:GREGORIAN
BEGIN:VEVENT
DTSTART:20131112T110000Z
DTEND:20131112T110000Z
UID:e13973
DTSTAMP:20260420T155051Z
LOCATION:Perlman Chemical Sciences Building
DESCRIPTION:Advances in three-dimensional imaging\, quantitative mapping and device fabrication by force microscopy
SUMMARY:Advances in three-dimensional imaging\, quantitative mapping and device fabrication by force microscopy
END:VEVENT
END:VCALENDAR