BEGIN:VCALENDAR
VERSION:2.0
PRODID:-//hacksw/handcal//NONSGML v1.0//EN
CALSCALE:GREGORIAN
BEGIN:VEVENT
DTSTART:20131127T080000Z
DTEND:20131127T080000Z
UID:e13974
DTSTAMP:20260421T224352Z
LOCATION:Perlman Chemical Sciences Building
DESCRIPTION:Challenges and perspectives of nanoscale electromagnetics
SUMMARY:Challenges and perspectives of nanoscale electromagnetics
END:VEVENT
END:VCALENDAR