BEGIN:VCALENDAR
VERSION:2.0
PRODID:-//hacksw/handcal//NONSGML v1.0//EN
CALSCALE:GREGORIAN
BEGIN:VEVENT
DTSTART:20131111T111500Z
DTEND:20131111T130000Z
UID:e13981
DTSTAMP:20260420T155213Z
LOCATION:Arthur and Rochelle Belfer Building for Biomedical Research
DESCRIPTION:Finding reaction coordinates to describe state transitions during differentiation
SUMMARY:Finding reaction coordinates to describe state transitions during differentiation
END:VEVENT
END:VCALENDAR