BEGIN:VCALENDAR
VERSION:2.0
PRODID:-//hacksw/handcal//NONSGML v1.0//EN
CALSCALE:GREGORIAN
BEGIN:VEVENT
DTSTART:20140113T111500Z
DTEND:20140113T130000Z
UID:e13984
DTSTAMP:20260425T071959Z
LOCATION:Arthur and Rochelle Belfer Building for Biomedical Research
DESCRIPTION:QIIME: Quantitative Insights Into Microbial Ecology
SUMMARY:QIIME: Quantitative Insights Into Microbial Ecology
END:VEVENT
END:VCALENDAR