BEGIN:VCALENDAR
VERSION:2.0
PRODID:-//hacksw/handcal//NONSGML v1.0//EN
CALSCALE:GREGORIAN
BEGIN:VEVENT
DTSTART:20131112T130000Z
DTEND:20131112T130000Z
UID:e13988
DTSTAMP:20260420T155019Z
LOCATION:Jacob Ziskind Building
DESCRIPTION:The Holography Theorem 
SUMMARY:The Holography Theorem 
END:VEVENT
END:VCALENDAR