BEGIN:VCALENDAR
VERSION:2.0
PRODID:-//hacksw/handcal//NONSGML v1.0//EN
CALSCALE:GREGORIAN
BEGIN:VEVENT
DTSTART:20140120T173000Z
DTEND:20140123T173000Z
UID:e13999
DTSTAMP:20260425T120439Z
LOCATION:Michael Sela Auditorium
DESCRIPTION:Biloxi Blues
SUMMARY:Biloxi Blues
END:VEVENT
END:VCALENDAR