BEGIN:VCALENDAR
VERSION:2.0
PRODID:-//hacksw/handcal//NONSGML v1.0//EN
CALSCALE:GREGORIAN
BEGIN:VEVENT
DTSTART:20131205T120000Z
DTEND:20131205T131500Z
UID:e14010
DTSTAMP:20260421T223144Z
LOCATION:Arthur and Rochelle Belfer Building for Biomedical Research
DESCRIPTION:MNF seminar - Yona Goldshmit - title TBD
SUMMARY:MNF seminar - Yona Goldshmit - title TBD
END:VEVENT
END:VCALENDAR