BEGIN:VCALENDAR
VERSION:2.0
PRODID:-//hacksw/handcal//NONSGML v1.0//EN
CALSCALE:GREGORIAN
BEGIN:VEVENT
DTSTART:20131121T090000Z
DTEND:20131121T090000Z
UID:e14018
DTSTAMP:20260421T085126Z
LOCATION:Jacob Ziskind Building
DESCRIPTION:Robust Subspace Modeling 
SUMMARY:Robust Subspace Modeling 
END:VEVENT
END:VCALENDAR