BEGIN:VCALENDAR
VERSION:2.0
PRODID:-//hacksw/handcal//NONSGML v1.0//EN
CALSCALE:GREGORIAN
BEGIN:VEVENT
DTSTART:20131124T113000Z
DTEND:20131124T113000Z
UID:e14020
DTSTAMP:20260421T085318Z
LOCATION:Jacob Ziskind Building
DESCRIPTION:Optimizing and Coordinating Networks and Markets of Selfish Players
SUMMARY:Optimizing and Coordinating Networks and Markets of Selfish Players
END:VEVENT
END:VCALENDAR