BEGIN:VCALENDAR
VERSION:2.0
PRODID:-//hacksw/handcal//NONSGML v1.0//EN
CALSCALE:GREGORIAN
BEGIN:VEVENT
DTSTART:20131125T113000Z
DTEND:20131125T113000Z
UID:e14021
DTSTAMP:20260421T102955Z
LOCATION:Jacob Ziskind Building
DESCRIPTION:High dimensional expanders\, topological overlapping and property testing
SUMMARY:High dimensional expanders\, topological overlapping and property testing
END:VEVENT
END:VCALENDAR