BEGIN:VCALENDAR
VERSION:2.0
PRODID:-//hacksw/handcal//NONSGML v1.0//EN
CALSCALE:GREGORIAN
BEGIN:VEVENT
DTSTART:20131127T110000Z
DTEND:20131127T110000Z
UID:e14025
DTSTAMP:20260421T180750Z
LOCATION:Gerhard M.J. Schmidt Lecture Hall
DESCRIPTION:Chemical Physics Deparment Guest Seminar
SUMMARY:Chemical Physics Deparment Guest Seminar
END:VEVENT
END:VCALENDAR