BEGIN:VCALENDAR
VERSION:2.0
PRODID:-//hacksw/handcal//NONSGML v1.0//EN
CALSCALE:GREGORIAN
BEGIN:VEVENT
DTSTART:20131209T111500Z
DTEND:20131209T130000Z
UID:e14027
DTSTAMP:20260421T223132Z
LOCATION:Arthur and Rochelle Belfer Building for Biomedical Research
DESCRIPTION:Natural polymorphism as a perturbation for systems genetics of Drosophila metabolism
SUMMARY:Natural polymorphism as a perturbation for systems genetics of Drosophila metabolism
END:VEVENT
END:VCALENDAR