BEGIN:VCALENDAR
VERSION:2.0
PRODID:-//hacksw/handcal//NONSGML v1.0//EN
CALSCALE:GREGORIAN
BEGIN:VEVENT
DTSTART:20131128T130000Z
DTEND:20131128T153000Z
UID:e14030
DTSTAMP:20260424T055734Z
LOCATION:
DESCRIPTION:Peletron Meeting
SUMMARY:Peletron Meeting
END:VEVENT
END:VCALENDAR