BEGIN:VCALENDAR
VERSION:2.0
PRODID:-//hacksw/handcal//NONSGML v1.0//EN
CALSCALE:GREGORIAN
BEGIN:VEVENT
DTSTART:20131128T090000Z
DTEND:20131128T090000Z
UID:e14031
DTSTAMP:20260421T180734Z
LOCATION:Jacob Ziskind Building
DESCRIPTION:Multimodal Audio Inpainting 
SUMMARY:Multimodal Audio Inpainting 
END:VEVENT
END:VCALENDAR