BEGIN:VCALENDAR
VERSION:2.0
PRODID:-//hacksw/handcal//NONSGML v1.0//EN
CALSCALE:GREGORIAN
BEGIN:VEVENT
DTSTART:20131119T081500Z
DTEND:20131119T081500Z
UID:e14033
DTSTAMP:20260421T102921Z
LOCATION:Ullmann Building of Life Sciences
DESCRIPTION:Yield canalization in crop plants
SUMMARY:Yield canalization in crop plants
END:VEVENT
END:VCALENDAR