BEGIN:VCALENDAR
VERSION:2.0
PRODID:-//hacksw/handcal//NONSGML v1.0//EN
CALSCALE:GREGORIAN
BEGIN:VEVENT
DTSTART:20131126T073000Z
DTEND:20131126T083000Z
UID:e14035
DTSTAMP:20260421T224341Z
LOCATION:
DESCRIPTION:EXOTIC HADRONS WITH HEAVY QUARKS
SUMMARY:EXOTIC HADRONS WITH HEAVY QUARKS
END:VEVENT
END:VCALENDAR