BEGIN:VCALENDAR
VERSION:2.0
PRODID:-//hacksw/handcal//NONSGML v1.0//EN
CALSCALE:GREGORIAN
BEGIN:VEVENT
DTSTART:20131121T080000Z
DTEND:20131121T080000Z
UID:e14037
DTSTAMP:20260421T085327Z
LOCATION:Jacob Ziskind Building
DESCRIPTION:Invariant random subgroup rigidity in product groups 
SUMMARY:Invariant random subgroup rigidity in product groups 
END:VEVENT
END:VCALENDAR