BEGIN:VCALENDAR
VERSION:2.0
PRODID:-//hacksw/handcal//NONSGML v1.0//EN
CALSCALE:GREGORIAN
BEGIN:VEVENT
DTSTART:20131126T090000Z
DTEND:20131126T100000Z
UID:e14038
DTSTAMP:20260421T224354Z
LOCATION:
DESCRIPTION:WHEN DOES THE GLUON REGGEIZE?
SUMMARY:WHEN DOES THE GLUON REGGEIZE?
END:VEVENT
END:VCALENDAR